BEGIN:VCALENDAR
VERSION:2.0
PRODID:-//INTUR Nicaragua - ECPv6.15.20//NONSGML v1.0//EN
CALSCALE:GREGORIAN
METHOD:PUBLISH
X-WR-CALNAME:INTUR Nicaragua
X-ORIGINAL-URL:https://www.intur.gob.ni
X-WR-CALDESC:Eventos para INTUR Nicaragua
REFRESH-INTERVAL;VALUE=DURATION:PT1H
X-Robots-Tag:noindex
X-PUBLISHED-TTL:PT1H
BEGIN:VTIMEZONE
TZID:America/Managua
BEGIN:STANDARD
TZOFFSETFROM:-0600
TZOFFSETTO:-0600
TZNAME:CST
DTSTART:20250101T000000
END:STANDARD
END:VTIMEZONE
BEGIN:VTIMEZONE
TZID:UTC
BEGIN:STANDARD
TZOFFSETFROM:+0000
TZOFFSETTO:+0000
TZNAME:UTC
DTSTART:20250101T000000
END:STANDARD
END:VTIMEZONE
BEGIN:VEVENT
DTSTART;TZID=America/Managua:20260402T080000
DTEND;TZID=America/Managua:20260404T170000
DTSTAMP:20260425T042657
CREATED:20260325T203749Z
LAST-MODIFIED:20260325T203749Z
UID:10001055-1775116800-1775322000@www.intur.gob.ni
SUMMARY:Eventos en el departamento de Carazo
DESCRIPTION:
URL:https://www.intur.gob.ni/event/eventos-en-el-departamento-de-carazo/
LOCATION:Carazo\, Carazo\, Nicaragua
CATEGORIES:Eventos
ATTACH;FMTTYPE=image/jpeg:https://www.intur.gob.ni/wp-content/uploads/2026/03/Carazo-1.jpg
ORGANIZER;CN="INTUR":MAILTO:cit@intur.gob.ni
GEO:12.865416;-85.207229
END:VEVENT
BEGIN:VEVENT
DTSTART;TZID=America/Managua:20260401T080000
DTEND;TZID=America/Managua:20260424T170000
DTSTAMP:20260425T042657
CREATED:20260325T201016Z
LAST-MODIFIED:20260325T201055Z
UID:10001054-1775030400-1777050000@www.intur.gob.ni
SUMMARY:Eventos en el departamento de Boaco
DESCRIPTION:
URL:https://www.intur.gob.ni/event/eventos-en-el-departamento-de-boaco/
LOCATION:Boaco\, Boaco\, Nicaragua
CATEGORIES:Eventos
ATTACH;FMTTYPE=image/jpeg:https://www.intur.gob.ni/wp-content/uploads/2026/03/Boaco.jpg
ORGANIZER;CN="INTUR":MAILTO:cit@intur.gob.ni
END:VEVENT
BEGIN:VEVENT
DTSTART;TZID=America/Managua:20260401T080000
DTEND;TZID=America/Managua:20260423T170000
DTSTAMP:20260425T042657
CREATED:20260325T222921Z
LAST-MODIFIED:20260325T222921Z
UID:10001066-1775030400-1776963600@www.intur.gob.ni
SUMMARY:Eventos en el departamento de Rivas
DESCRIPTION:
URL:https://www.intur.gob.ni/event/eventos-en-el-departamento-de-rivas/
LOCATION:Rivas\, Rivas\, Nicaragua
CATEGORIES:Eventos
ATTACH;FMTTYPE=image/jpeg:https://www.intur.gob.ni/wp-content/uploads/2026/03/Rivas-1.jpg
ORGANIZER;CN="INTUR":MAILTO:cit@intur.gob.ni
END:VEVENT
BEGIN:VEVENT
DTSTART;TZID=America/Managua:20260401T080000
DTEND;TZID=America/Managua:20260423T170000
DTSTAMP:20260425T042657
CREATED:20260325T211045Z
LAST-MODIFIED:20260325T211143Z
UID:10001060-1775030400-1776963600@www.intur.gob.ni
SUMMARY:Eventos en el departamento de León
DESCRIPTION:
URL:https://www.intur.gob.ni/event/eventos-en-el-departamento-de-leon/
LOCATION:León\, León\, Nicaragua
CATEGORIES:Eventos
ATTACH;FMTTYPE=image/jpeg:https://www.intur.gob.ni/wp-content/uploads/2026/03/Leon-1.jpg
ORGANIZER;CN="INTUR":MAILTO:cit@intur.gob.ni
END:VEVENT
BEGIN:VEVENT
DTSTART;TZID=America/Managua:20260401T080000
DTEND;TZID=America/Managua:20260418T170000
DTSTAMP:20260425T042657
CREATED:20260325T223105Z
LAST-MODIFIED:20260325T223105Z
UID:10001067-1775030400-1776531600@www.intur.gob.ni
SUMMARY:Eventos en el departamento de Río San Juan
DESCRIPTION:
URL:https://www.intur.gob.ni/event/eventos-en-el-departamento-de-rio-san-juan/
LOCATION:Río San Juan\, Río San Juan\, Nicaragua
CATEGORIES:Eventos
ATTACH;FMTTYPE=image/jpeg:https://www.intur.gob.ni/wp-content/uploads/2026/03/RSJ-1.jpg
ORGANIZER;CN="INTUR":MAILTO:cit@intur.gob.ni
GEO:10.91769;-84.31732
END:VEVENT
BEGIN:VEVENT
DTSTART;TZID=America/Managua:20260401T080000
DTEND;TZID=America/Managua:20260405T170000
DTSTAMP:20260425T042657
CREATED:20260325T215012Z
LAST-MODIFIED:20260325T215012Z
UID:10001064-1775030400-1775408400@www.intur.gob.ni
SUMMARY:Eventos en el departamento de RACCN
DESCRIPTION:
URL:https://www.intur.gob.ni/event/eventos-en-el-departamento-de-raccn/
LOCATION:RACCN\, Puerto Cabezas\, Nicaragua
CATEGORIES:Eventos
ATTACH;FMTTYPE=image/jpeg:https://www.intur.gob.ni/wp-content/uploads/2026/03/RACCN-1.jpg
ORGANIZER;CN="INTUR":MAILTO:cit@intur.gob.ni
END:VEVENT
BEGIN:VEVENT
DTSTART;TZID=America/Managua:20260401T080000
DTEND;TZID=America/Managua:20260405T170000
DTSTAMP:20260425T042657
CREATED:20260325T211314Z
LAST-MODIFIED:20260325T211314Z
UID:10001061-1775030400-1775408400@www.intur.gob.ni
SUMMARY:Eventos en el departamento de Madriz
DESCRIPTION:
URL:https://www.intur.gob.ni/event/eventos-en-el-departamento-de-madriz/
LOCATION:Madriz\, Madriz\, Nicaragua
CATEGORIES:Eventos
ATTACH;FMTTYPE=image/jpeg:https://www.intur.gob.ni/wp-content/uploads/2026/03/Madrzi.jpg
ORGANIZER;CN="INTUR":MAILTO:cit@intur.gob.ni
GEO:12.865416;-85.207229
END:VEVENT
BEGIN:VEVENT
DTSTART;TZID=America/Managua:20260401T080000
DTEND;TZID=America/Managua:20260401T170000
DTSTAMP:20260425T042657
CREATED:20260326T155256Z
LAST-MODIFIED:20260326T155256Z
UID:10001070-1775030400-1775062800@www.intur.gob.ni
SUMMARY:I Torneo de Pesca deportiva de Robalo
DESCRIPTION:Fecha: 01 de abril 2026 \nLugar: Muelle Municipal\, El Castillo\, Río San Juan
URL:https://www.intur.gob.ni/event/i-torneo-de-pesca-deportiva-de-robalo/
LOCATION:El Castillo\, Río San Juan\, Nicaragua
CATEGORIES:Eventos Promoción
ORGANIZER;CN="INTUR":MAILTO:cit@intur.gob.ni
GEO:10.911057076319;-84.317264184749
END:VEVENT
BEGIN:VEVENT
DTSTART;VALUE=DATE:20260329
DTEND;VALUE=DATE:20260330
DTSTAMP:20260425T042657
CREATED:20260303T161431Z
LAST-MODIFIED:20260303T204019Z
UID:10001011-1774742400-1774828799@www.intur.gob.ni
SUMMARY:Matagalpa – Eventos Marzo 2026
DESCRIPTION:
URL:https://www.intur.gob.ni/event/matagalpa-eventos-marzo-2026-4/
LOCATION:Matagalpa\, Matagalpa\, Nicaragua
CATEGORIES:Eventos
ATTACH;FMTTYPE=image/jpeg:https://www.intur.gob.ni/wp-content/uploads/2026/03/matagalpa.jpg
ORGANIZER;CN="INTUR":MAILTO:cit@intur.gob.ni
END:VEVENT
BEGIN:VEVENT
DTSTART;VALUE=DATE:20260329
DTEND;VALUE=DATE:20260330
DTSTAMP:20260425T042657
CREATED:20260303T161416Z
LAST-MODIFIED:20260303T204011Z
UID:10001010-1774742400-1774828799@www.intur.gob.ni
SUMMARY:Carazo – Eventos Marzo 2026
DESCRIPTION:
URL:https://www.intur.gob.ni/event/carazo-eventos-marzo-2026-3/
LOCATION:Carazo\, Carazo\, Nicaragua
CATEGORIES:Eventos
ATTACH;FMTTYPE=image/jpeg:https://www.intur.gob.ni/wp-content/uploads/2026/03/carazo.jpg
ORGANIZER;CN="INTUR":MAILTO:cit@intur.gob.ni
GEO:12.865416;-85.207229
END:VEVENT
BEGIN:VEVENT
DTSTART;VALUE=DATE:20260328
DTEND;VALUE=DATE:20260331
DTSTAMP:20260425T042657
CREATED:20260303T161359Z
LAST-MODIFIED:20260303T204001Z
UID:10001009-1774656000-1774915199@www.intur.gob.ni
SUMMARY:Río San Juan – Eventos Marzo 2026
DESCRIPTION:
URL:https://www.intur.gob.ni/event/rio-san-juan-eventos-marzo-2026-4/
LOCATION:Río San Juan\, Río San Juan\, Nicaragua
CATEGORIES:Eventos
ATTACH;FMTTYPE=image/jpeg:https://www.intur.gob.ni/wp-content/uploads/2026/03/rsj.jpg
ORGANIZER;CN="INTUR":MAILTO:cit@intur.gob.ni
GEO:10.91769;-84.31732
END:VEVENT
BEGIN:VEVENT
DTSTART;VALUE=DATE:20260328
DTEND;VALUE=DATE:20260329
DTSTAMP:20260425T042657
CREATED:20260303T161344Z
LAST-MODIFIED:20260303T203949Z
UID:10001008-1774656000-1774742399@www.intur.gob.ni
SUMMARY:Raccs – Eventos Marzo 2026
DESCRIPTION:
URL:https://www.intur.gob.ni/event/raccs-eventos-marzo-2026-3/
LOCATION:RACCS\, Bluefields\, Nicaragua
CATEGORIES:Eventos
ATTACH;FMTTYPE=image/jpeg:https://www.intur.gob.ni/wp-content/uploads/2026/03/raccs.jpg
ORGANIZER;CN="INTUR":MAILTO:cit@intur.gob.ni
END:VEVENT
BEGIN:VEVENT
DTSTART;TZID=America/Managua:20260327T090000
DTEND;TZID=America/Managua:20260327T123000
DTSTAMP:20260425T042657
CREATED:20260304T165528Z
LAST-MODIFIED:20260304T165528Z
UID:10001030-1774602000-1774614600@www.intur.gob.ni
SUMMARY:Capacitación Manipulación Higiénica de A&B
DESCRIPTION:
URL:https://www.intur.gob.ni/event/capacitacion-manipulacion-higienica-de-ab/
LOCATION:Managua\, Managua\, Nicaragua
CATEGORIES:Capacitaciones
END:VEVENT
BEGIN:VEVENT
DTSTART;TZID=America/Managua:20260327T090000
DTEND;TZID=America/Managua:20260327T120000
DTSTAMP:20260425T042657
CREATED:20260304T165618Z
LAST-MODIFIED:20260316T143517Z
UID:10001031-1774602000-1774612800@www.intur.gob.ni
SUMMARY:Taller sobre Atención al Cliente y Habilidades Blandas
DESCRIPTION:Taller sobre Atención al Cliente y Habilidades Blandas. \nDepartamento: Jinotega. \nLugar: Hotel Casa Real\, San Rafael del Norte. \nHora: 9:00am. a 12:00pm.
URL:https://www.intur.gob.ni/event/taller-sobre-atencion-al-cliente-y-habilidades-blandas/
LOCATION:Jinotega\, Jinotega\, Nicaragua
CATEGORIES:Capacitaciones
GEO:13.0883907;-85.9993997
END:VEVENT
BEGIN:VEVENT
DTSTART;TZID=UTC:20260327T080000
DTEND;TZID=UTC:20260327T170000
DTSTAMP:20260425T042657
CREATED:20260303T161320Z
LAST-MODIFIED:20260326T202256Z
UID:10001007-1774598400-1774630800@www.intur.gob.ni
SUMMARY:Masaya – Eventos Marzo 2026
DESCRIPTION:
URL:https://www.intur.gob.ni/event/masaya-eventos-marzo-2026-6/
LOCATION:Masaya\, Masaya\, Nicaragua
CATEGORIES:Eventos
ATTACH;FMTTYPE=image/jpeg:https://www.intur.gob.ni/wp-content/uploads/2026/03/masaya.jpg
ORGANIZER;CN="INTUR":MAILTO:cit@intur.gob.ni
END:VEVENT
BEGIN:VEVENT
DTSTART;VALUE=DATE:20260327
DTEND;VALUE=DATE:20260328
DTSTAMP:20260425T042657
CREATED:20260303T161305Z
LAST-MODIFIED:20260303T203351Z
UID:10001006-1774569600-1774655999@www.intur.gob.ni
SUMMARY:Estelí – Eventos Marzo 2026
DESCRIPTION:
URL:https://www.intur.gob.ni/event/esteli-eventos-marzo-2026-3/
LOCATION:Estelí\, Estelí\, Nicaragua
CATEGORIES:Eventos
ATTACH;FMTTYPE=image/jpeg:https://www.intur.gob.ni/wp-content/uploads/2026/03/esteli.jpg
ORGANIZER;CN="INTUR":MAILTO:cit@intur.gob.ni
GEO:13.0851139;-86.3630197
END:VEVENT
BEGIN:VEVENT
DTSTART;TZID=America/Managua:20260326T133000
DTEND;TZID=America/Managua:20260326T170000
DTSTAMP:20260425T042657
CREATED:20260309T174804Z
LAST-MODIFIED:20260309T174804Z
UID:10001039-1774531800-1774544400@www.intur.gob.ni
SUMMARY:Talleres ESNNA Somoto
DESCRIPTION:Jueves 26 de marzo 2026 \nActividad: ESNNA \nDepartamento: San Lucas\, Somoto \nLugar: Auditorio Alcaldía San Lucas \nHora: 1:30 pm \n 
URL:https://www.intur.gob.ni/event/talleres-esnna-somoto/
LOCATION:Auditorio Alcaldía San Lucas Somoto\, Auditorio Alcaldía San Lucas\, San Lucas\, Somoto\, Nicaragua
CATEGORIES:Capacitaciones,ESNNA
END:VEVENT
BEGIN:VEVENT
DTSTART;TZID=America/Managua:20260326T130000
DTEND;TZID=America/Managua:20260326T160000
DTSTAMP:20260425T042657
CREATED:20260304T165426Z
LAST-MODIFIED:20260304T165426Z
UID:10001029-1774530000-1774540800@www.intur.gob.ni
SUMMARY:Taller sobre Turismo rural Comunitario
DESCRIPTION:
URL:https://www.intur.gob.ni/event/taller-sobre-turismo-rural-comunitario/
LOCATION:Jinotega\, Jinotega\, Nicaragua
CATEGORIES:Capacitaciones
GEO:13.0883907;-85.9993997
END:VEVENT
BEGIN:VEVENT
DTSTART;TZID=America/Managua:20260326T090000
DTEND;TZID=America/Managua:20260326T123000
DTSTAMP:20260425T042657
CREATED:20260304T163813Z
LAST-MODIFIED:20260316T143447Z
UID:10001028-1774515600-1774528200@www.intur.gob.ni
SUMMARY:Capacitación Posicionamiento de Marca
DESCRIPTION:Capacitación Posicionamiento de Marca. \nLugar: Granada. \nHora: 9:00am. a 12:30pm.
URL:https://www.intur.gob.ni/event/capacitacion-posicionamiento-de-marca/
LOCATION:Granada\, Granada\, Nicaragua
CATEGORIES:Capacitaciones
END:VEVENT
BEGIN:VEVENT
DTSTART;TZID=America/Managua:20260326T090000
DTEND;TZID=America/Managua:20260326T123000
DTSTAMP:20260425T042657
CREATED:20260304T163650Z
LAST-MODIFIED:20260316T150439Z
UID:10001027-1774515600-1774528200@www.intur.gob.ni
SUMMARY:Capacitación Elaboración de Menú Digital
DESCRIPTION:
URL:https://www.intur.gob.ni/event/capacitacion-elaboracion-de-menu-digital-2/
LOCATION:Madriz\, Madriz\, Nicaragua
CATEGORIES:Capacitaciones
GEO:12.865416;-85.207229
END:VEVENT
BEGIN:VEVENT
DTSTART;VALUE=DATE:20260322
DTEND;VALUE=DATE:20260330
DTSTAMP:20260425T042657
CREATED:20260303T152721Z
LAST-MODIFIED:20260303T202051Z
UID:10000989-1774137600-1774828799@www.intur.gob.ni
SUMMARY:Carazo – Eventos Marzo 2026
DESCRIPTION:
URL:https://www.intur.gob.ni/event/carazo-eventos-marzo-2026/
LOCATION:Carazo\, Carazo\, Nicaragua
CATEGORIES:Eventos
ATTACH;FMTTYPE=image/jpeg:https://www.intur.gob.ni/wp-content/uploads/2026/03/carazo.jpg
ORGANIZER;CN="INTUR":MAILTO:cit@intur.gob.ni
GEO:12.865416;-85.207229
END:VEVENT
BEGIN:VEVENT
DTSTART;VALUE=DATE:20260321
DTEND;VALUE=DATE:20260401
DTSTAMP:20260425T042657
CREATED:20260303T152706Z
LAST-MODIFIED:20260303T202107Z
UID:10000988-1774051200-1775001599@www.intur.gob.ni
SUMMARY:Raccn – Eventos Marzo 2026
DESCRIPTION:
URL:https://www.intur.gob.ni/event/raccn-eventos-marzo-2026/
LOCATION:RACCN\, Puerto Cabezas\, Nicaragua
CATEGORIES:Eventos
ATTACH;FMTTYPE=image/jpeg:https://www.intur.gob.ni/wp-content/uploads/2026/03/raccn.jpg
ORGANIZER;CN="INTUR":MAILTO:cit@intur.gob.ni
END:VEVENT
BEGIN:VEVENT
DTSTART;VALUE=DATE:20260317
DTEND;VALUE=DATE:20260328
DTSTAMP:20260425T042657
CREATED:20260303T152648Z
LAST-MODIFIED:20260303T202118Z
UID:10000987-1773705600-1774655999@www.intur.gob.ni
SUMMARY:Estelí – Eventos Marzo 2026
DESCRIPTION:
URL:https://www.intur.gob.ni/event/esteli-eventos-marzo-2026/
LOCATION:Estelí\, Estelí\, Nicaragua
CATEGORIES:Eventos
ATTACH;FMTTYPE=image/jpeg:https://www.intur.gob.ni/wp-content/uploads/2026/03/esteli.jpg
ORGANIZER;CN="INTUR":MAILTO:cit@intur.gob.ni
GEO:13.0851139;-86.3630197
END:VEVENT
BEGIN:VEVENT
DTSTART;VALUE=DATE:20260313
DTEND;VALUE=DATE:20260330
DTSTAMP:20260425T042657
CREATED:20260303T152632Z
LAST-MODIFIED:20260303T202133Z
UID:10000986-1773360000-1774828799@www.intur.gob.ni
SUMMARY:Matagalpa – Eventos Marzo 2026
DESCRIPTION:
URL:https://www.intur.gob.ni/event/matagalpa-eventos-marzo-2026/
LOCATION:Matagalpa\, Matagalpa\, Nicaragua
CATEGORIES:Eventos
ATTACH;FMTTYPE=image/jpeg:https://www.intur.gob.ni/wp-content/uploads/2026/03/matagalpa.jpg
ORGANIZER;CN="INTUR":MAILTO:cit@intur.gob.ni
END:VEVENT
BEGIN:VEVENT
DTSTART;VALUE=DATE:20260308
DTEND;VALUE=DATE:20260329
DTSTAMP:20260425T042657
CREATED:20260303T152600Z
LAST-MODIFIED:20260303T202206Z
UID:10000984-1772956800-1774717200@www.intur.gob.ni
SUMMARY:Managua – Eventos Marzo 2026
DESCRIPTION:
URL:https://www.intur.gob.ni/event/managua-eventos-marzo-2026/
LOCATION:Managua\, Managua\, Nicaragua
CATEGORIES:Eventos
ATTACH;FMTTYPE=image/jpeg:https://www.intur.gob.ni/wp-content/uploads/2026/03/managua.jpg
ORGANIZER;CN="INTUR":MAILTO:cit@intur.gob.ni
END:VEVENT
BEGIN:VEVENT
DTSTART;VALUE=DATE:20260308
DTEND;VALUE=DATE:20260329
DTSTAMP:20260425T042657
CREATED:20260303T152542Z
LAST-MODIFIED:20260303T202244Z
UID:10000983-1772956800-1774717200@www.intur.gob.ni
SUMMARY:Madriz – Eventos Marzo 2026
DESCRIPTION:
URL:https://www.intur.gob.ni/event/madriz-eventos-marzo-2026/
LOCATION:Madriz\, Madriz\, Nicaragua
CATEGORIES:Eventos
ATTACH;FMTTYPE=image/jpeg:https://www.intur.gob.ni/wp-content/uploads/2026/03/madriz.jpg
ORGANIZER;CN="INTUR":MAILTO:cit@intur.gob.ni
GEO:12.865416;-85.207229
END:VEVENT
BEGIN:VEVENT
DTSTART;VALUE=DATE:20260308
DTEND;VALUE=DATE:20260329
DTSTAMP:20260425T042657
CREATED:20260303T152457Z
LAST-MODIFIED:20260303T202220Z
UID:10000981-1772928000-1774742399@www.intur.gob.ni
SUMMARY:Raccs – Eventos Marzo 2026
DESCRIPTION:
URL:https://www.intur.gob.ni/event/raccs-eventos-marzo-2026/
LOCATION:RACCS\, Bluefields\, Nicaragua
CATEGORIES:Eventos
ATTACH;FMTTYPE=image/jpeg:https://www.intur.gob.ni/wp-content/uploads/2026/03/raccs.jpg
ORGANIZER;CN="INTUR":MAILTO:cit@intur.gob.ni
END:VEVENT
BEGIN:VEVENT
DTSTART;VALUE=DATE:20260307
DTEND;VALUE=DATE:20260330
DTSTAMP:20260425T042657
CREATED:20260303T152423Z
LAST-MODIFIED:20260303T202607Z
UID:10000979-1772870400-1774803600@www.intur.gob.ni
SUMMARY:Chinandega – Eventos Marzo 2026
DESCRIPTION:
URL:https://www.intur.gob.ni/event/chinandega-eventos-marzo-2026/
LOCATION:Chinandega\, Chinandega\, Nicaragua
CATEGORIES:Eventos
ATTACH;FMTTYPE=image/jpeg:https://www.intur.gob.ni/wp-content/uploads/2026/03/chinandega.jpg
ORGANIZER;CN="INTUR":MAILTO:cit@intur.gob.ni
END:VEVENT
BEGIN:VEVENT
DTSTART;VALUE=DATE:20260307
DTEND;VALUE=DATE:20260330
DTSTAMP:20260425T042657
CREATED:20260303T152308Z
LAST-MODIFIED:20260303T202640Z
UID:10000975-1772870400-1774803600@www.intur.gob.ni
SUMMARY:Jinotega – Eventos Marzo 2026
DESCRIPTION:
URL:https://www.intur.gob.ni/event/jinotega-eventos-marzo-2026/
CATEGORIES:Eventos
ATTACH;FMTTYPE=image/jpeg:https://www.intur.gob.ni/wp-content/uploads/2026/03/jinotega.jpg
ORGANIZER;CN="INTUR":MAILTO:cit@intur.gob.ni
END:VEVENT
BEGIN:VEVENT
DTSTART;VALUE=DATE:20260307
DTEND;VALUE=DATE:20260329
DTSTAMP:20260425T042657
CREATED:20260303T152439Z
LAST-MODIFIED:20260303T202557Z
UID:10000980-1772870400-1774717200@www.intur.gob.ni
SUMMARY:Chontales – Eventos Marzo 2026
DESCRIPTION:
URL:https://www.intur.gob.ni/event/chontales-eventos-marzo-2026/
LOCATION:Chontales\, Chontales\, Nicaragua
CATEGORIES:Eventos
ATTACH;FMTTYPE=image/jpeg:https://www.intur.gob.ni/wp-content/uploads/2026/03/chontales.jpg
ORGANIZER;CN="INTUR":MAILTO:cit@intur.gob.ni
END:VEVENT
END:VCALENDAR