BEGIN:VCALENDAR
VERSION:2.0
PRODID:-//INTUR Nicaragua - ECPv6.15.20//NONSGML v1.0//EN
CALSCALE:GREGORIAN
METHOD:PUBLISH
X-ORIGINAL-URL:https://www.intur.gob.ni
X-WR-CALDESC:Eventos para INTUR Nicaragua
REFRESH-INTERVAL;VALUE=DURATION:PT1H
X-Robots-Tag:noindex
X-PUBLISHED-TTL:PT1H
BEGIN:VTIMEZONE
TZID:America/Managua
BEGIN:STANDARD
TZOFFSETFROM:-0600
TZOFFSETTO:-0600
TZNAME:CST
DTSTART:20250101T000000
END:STANDARD
END:VTIMEZONE
BEGIN:VEVENT
DTSTART;TZID=America/Managua:20260425T100000
DTEND;TZID=America/Managua:20260425T170000
DTSTAMP:20260419T190628
CREATED:20260414T154118Z
LAST-MODIFIED:20260414T154118Z
UID:10001119-1777111200-1777136400@www.intur.gob.ni
SUMMARY:Festival Nicaragüense Nuestra Orgullosa Identidad
DESCRIPTION:
URL:https://www.intur.gob.ni/event/festival-nicaraguense-nuestra-orgullosa-identidad/
LOCATION:Parque Central de Santo Tomás\, Chontales\, Nicaragua
CATEGORIES:Eventos Promoción
ATTACH;FMTTYPE=image/jpeg:https://www.intur.gob.ni/wp-content/uploads/2026/04/Invitacion-Web-Festival-Nicaraguense.jpg
ORGANIZER;CN="INTUR":MAILTO:cit@intur.gob.ni
GEO:12.1216944;-85.1894045
X-APPLE-STRUCTURED-LOCATION;VALUE=URI;X-ADDRESS=Parque Central de Santo Tomás Chontales Nicaragua;X-APPLE-RADIUS=500;X-TITLE=Chontales:geo:-85.1894045,12.1216944
END:VEVENT
BEGIN:VEVENT
DTSTART;TZID=America/Managua:20260425T150000
DTEND;TZID=America/Managua:20260425T180000
DTSTAMP:20260419T190628
CREATED:20260326T145658Z
LAST-MODIFIED:20260326T145658Z
UID:10001069-1777129200-1777140000@www.intur.gob.ni
SUMMARY:VIII Carnaval Acuático en El Rama
DESCRIPTION:Lugar: Puerto Arlen Siu \nFecha: 25 de abril 2026 \nHora: 3:00 pm
URL:https://www.intur.gob.ni/event/viii-carnaval-acuatico-en-el-rama/
LOCATION:Puerto Arlen Siu\, Puerto El Rama\, El Rama\, Nicaragua
CATEGORIES:Eventos Promoción
ATTACH;FMTTYPE=image/jpeg:https://www.intur.gob.ni/wp-content/uploads/2026/03/INVITACION-APROBADA_VIII-Carnaval-Acuatico-El-Rama.jpg
ORGANIZER;CN="INTUR":MAILTO:cit@intur.gob.ni
END:VEVENT
END:VCALENDAR